BEGIN:VCALENDAR
VERSION:2.0
PRODID:-//ChamberMaster//Event Calendar 2.0//EN
METHOD:PUBLISH
X-PUBLISHED-TTL:P1H
REFRESH-INTERVAL:P1H
CALSCALE:GREGORIAN
BEGIN:VTIMEZONE
TZID:America/New_York
BEGIN:DAYLIGHT
RRULE:FREQ=YEARLY;BYMONTH=3;BYDAY=2SU
DTSTART:20070101T000000
TZOFFSETFROM:-0500
TZOFFSETTO:-0400
TZNAME:Eastern Daylight Time
END:DAYLIGHT
BEGIN:STANDARD
RRULE:FREQ=YEARLY;BYMONTH=11;BYDAY=1SU
DTSTART:20070101T000000
TZOFFSETFROM:-0400
TZOFFSETTO:-0500
TZNAME:Eastern Standard Time
END:STANDARD
END:VTIMEZONE
BEGIN:VEVENT
DTSTART;VALUE=DATE:20260929
DTEND;VALUE=DATE:20260930
TRANSP:TRANSPARENT
X-MICROSOFT-CDO-ALLDAYEVENT:TRUE
SUMMARY:Accredited Buyer's Representative (ABR®) Designation Course
DESCRIPTION:Take the first step in earning your ABR  Designation With Instructor\, Peter WestThe ABR  Difference: This designation is for real estate professionals who are passionate about working with buyer-clients and want to take their excellence and service to the next level.Why It's Worth It: You can't count on the market you have to count on your skills. ABR designees have continuous access to education\, industry information\, marketing materials\, and more. These resources can boost referrals and lead generation.Upon completion of the two-day course and successfully passing the exam\, you will have achieved ABR  candidate status\, a three-year period during which you must fulfill the educational and experiential requirements to earn the Accredited Buyer's Representative (ABR ) Designation awarded by the Real Estate Buyer's Agent Council\, Inc. There are 4 Benchmarks to go through to gain your ABR Designation\, and taking the ABR Designation Course is the first Benchmark. Please see the full requirements at abr.realtor. 2 Day Designation Course: Must attend both days to receive Designation and CEU Credits.Tuesday\, September 29th\, 9:00 AM - 4:00 PMWednesday\, September 30th\, 9:00 AM - 4:00 PMPricing & Eligibility🐦 Early Bird Rate: $250.00 (Register by August 31st)📅 Regular Rate: $295.00✅ Eligibility: Must be a REALTOR  to attend\nBuyer RepresentationUnderstanding Types of Agency RelationshipsCreating an Agency RelationshipClient and Customer Relationships\, Duties\, and ResponsibilitiesHow We Work with Buyers  Buyer Services  The Buyer Counseling SessionOffers and NegotiationsBuilding a Buyer Representation Business\n\n\nEARN - 10 MA Continuing Education Credits! RE02R06: Buyer AgencyRE57R07: Brokerage RelationshipsRE35RC03: OffersRE36R05: Conducting Open Houses and Developing a Safety PlanRE90R14: Designated AgencyNo-Shows Policy   Registrants who fail to attend the class and do not contact RACM Staff prior to the class/event start date with a cancellation request in writing (see above) will automatically forfeit all registration fees and/or be subject to a $25 No-Show fee.
X-ALT-DESC;FMTTYPE=text/html:<!DOCTYPE html><html><head><title></title></head><body aria-disabled="false"><p style="margin-top:0in\;background:white\;box-sizing: border-box\;overflow-wrap: break-word\;">Take the first step in earning your ABR&reg\; Designation With Instructor\, Peter West</p><p style="background:white\;box-sizing: border-box\;overflow-wrap: break-word\;">The ABR&reg\; Difference: This designation is for real estate professionals who are passionate about working with buyer-clients and want to take their excellence and service to the next level.</p><p style="background:white\;box-sizing: border-box\;overflow-wrap: break-word\;">Why It&#39\;s Worth It: You can&#39\;t count on the market&mdash\;you have to count on your skills. ABR designees have continuous access to education\, industry information\, marketing materials\, and more. These resources can boost referrals and lead generation.</p><p style="background:white\;box-sizing: border-box\;overflow-wrap: break-word\;"><strong fr-original-style="" style="font-weight: 700\;">Upon completion of the two-day course and successfully passing the exam\, you will have achieved <u>ABR&reg\; candidate status</u>\, a three-year period during which you must fulfill the educational and experiential requirements to earn the Accredited Buyer&#39\;s Representative (ABR&reg\;) Designation awarded by the Real Estate Buyer&rsquo\;s Agent Council\, Inc. There are 4 Benchmarks to go through to gain your ABR Designation\, and taking the ABR Designation Course is the first Benchmark. Please see the full requirements at <a fr-original-style="" href="https://abr.realtor/" style="user-select: auto\;">abr.realtor</a></strong><strong fr-original-style="" style="font-weight: 700\;">.&nbsp\;</strong></p><p data-end="959" data-is-last-node="" data-is-only-node="" data-start="750"><strong fr-original-style="" style="font-weight: 700\;"><u>2 Day Designation Course:</u>&nbsp\;</strong><em><strong fr-original-style="" style="font-weight: 700\;">Must attend both days to receive Designation and CEU Credits.</strong></em></p><p><strong fr-original-style="" style="font-weight: 700\;">Tuesday\, September 29th\, 9:00 AM - 4:00 PM</strong></p><p><strong fr-original-style="" style="font-weight: 700\;">Wednesday\, September 30th\, 9:00 AM - 4:00 PM</strong></p><p data-end="124" data-start="94"><strong data-end="122" data-start="94" fr-original-style="" style="font-weight: 700\;"><u>Pricing &amp\; Eligibility</u></strong></p><ul data-end="269" data-start="126" fr-original-style="" style="list-style-position: inside\;"><li data-end="184" data-section-id="1opaq2" data-start="126">🐦 <strong data-end="151" data-start="131" fr-original-style="" style="font-weight: 700\;">Early Bird Rate:</strong>&nbsp\;$250.00 <em data-end="182" data-start="160">(Register by August 31st)</em></li><li data-end="217" data-section-id="sr4fqe" data-start="185">📅 <strong data-end="207" data-start="190" fr-original-style="" style="font-weight: 700\;">Regular Rate:</strong>&nbsp\;$295.00</li><li data-end="269" data-section-id="fgvhfv" data-start="218">✅ <strong data-end="238" data-start="222" fr-original-style="" style="font-weight: 700\;">Eligibility:</strong> Must be a REALTOR&reg\; to attend</li></ul><p style="margin:0in\;background:white\;"><br></p><ul fr-original-style="margin-top:0in\;box-sizing: border-box\;overflow-wrap: break-word\;" style="margin-top: 0in\; box-sizing: border-box\; overflow-wrap: break-word\; list-style-position: inside\;" type="disc"><li style="color:black\;mso-margin-bottom-alt:auto\;mso-list:      l0 level1 lfo1\;tab-stops:list .5in\;background:white\;box-sizing: border-box\;      overflow-wrap: break-word\;">Buyer Representation</li><li style="color:black\;mso-margin-top-alt:auto\;mso-margin-bottom-alt:      auto\;mso-list:l0 level1 lfo1\;tab-stops:list .5in\;background:white\;      box-sizing: border-box\;overflow-wrap: break-word\;margin-top:calc(var(--gutter)/4)\;">Understanding Types of Agency Relationships</li><li style="color:black\;mso-margin-top-alt:auto\;mso-margin-bottom-alt:      auto\;mso-list:l0 level1 lfo1\;tab-stops:list .5in\;background:white\;      box-sizing: border-box\;overflow-wrap: break-word\;margin-top:calc(var(--gutter)/4)\;">Creating an Agency Relationship</li><li style="color:black\;mso-margin-top-alt:auto\;mso-margin-bottom-alt:      auto\;mso-list:l0 level1 lfo1\;tab-stops:list .5in\;background:white\;      box-sizing: border-box\;overflow-wrap: break-word\;margin-top:calc(var(--gutter)/4)\;">Client and Customer Relationships\, Duties\, and Responsibilities</li><li style="color:black\;mso-margin-top-alt:auto\;mso-margin-bottom-alt:      auto\;mso-list:l0 level1 lfo1\;tab-stops:list .5in\;background:white\;      box-sizing: border-box\;overflow-wrap: break-word\;margin-top:calc(var(--gutter)/4)\;">How We Work with Buyers &bull\;Buyer Services &bull\;The Buyer Counseling Session</li><li style="color:black\;mso-margin-top-alt:auto\;mso-margin-bottom-alt:      auto\;mso-list:l0 level1 lfo1\;tab-stops:list .5in\;background:white\;      box-sizing: border-box\;overflow-wrap: break-word\;margin-top:calc(var(--gutter)/4)\;">Offers and Negotiations</li><li style="color:black\;mso-margin-top-alt:auto\;mso-margin-bottom-alt:      auto\;mso-list:l0 level1 lfo1\;tab-stops:list .5in\;background:white\;      box-sizing: border-box\;overflow-wrap: break-word\;margin-top:calc(var(--gutter)/4)\;">Building a Buyer Representation Business<br><br><br><strong fr-original-style="" style="font-weight: 700\;">EARN - 10 MA Continuing Education Credits!&nbsp\;</strong></li><li style="color:black\;mso-margin-top-alt:auto\;mso-margin-bottom-alt:      auto\;mso-list:l0 level1 lfo1\;tab-stops:list .5in\;background:white\;      box-sizing: border-box\;overflow-wrap: break-word\;margin-top:calc(var(--gutter)/4)\;">RE02R06: Buyer Agency</li><li style="color:black\;mso-margin-top-alt:auto\;mso-margin-bottom-alt:      auto\;mso-list:l0 level1 lfo1\;tab-stops:list .5in\;background:white\;      box-sizing: border-box\;overflow-wrap: break-word\;margin-top:calc(var(--gutter)/4)\;">RE57R07: Brokerage Relationships</li><li style="color:black\;mso-margin-top-alt:auto\;mso-margin-bottom-alt:      auto\;mso-list:l0 level1 lfo1\;tab-stops:list .5in\;background:white\;      box-sizing: border-box\;overflow-wrap: break-word\;margin-top:calc(var(--gutter)/4)\;">RE35RC03: Offers</li><li style="color:black\;mso-margin-top-alt:auto\;mso-margin-bottom-alt:      auto\;mso-list:l0 level1 lfo1\;tab-stops:list .5in\;background:white\;      box-sizing: border-box\;overflow-wrap: break-word\;margin-top:calc(var(--gutter)/4)\;">RE36R05: Conducting Open Houses and Developing a Safety Plan</li><li style="color:black\;mso-margin-top-alt:auto\;margin-bottom:      12.0pt\;mso-list:l0 level1 lfo1\;tab-stops:list .5in\;background:white\;      box-sizing: border-box\;overflow-wrap: break-word\;margin-top:calc(var(--gutter)/4)\;">RE90R14: Designated Agency</li></ul><p style="mso-line-height-alt:11.25pt\;--font-size: 12px\;  --line-height: 1.3\;"><strong fr-original-style="" style="font-weight: 700\;">No-Shows Policy &ndash\;</strong> Registrants who fail to attend the class and do not contact RACM Staff prior to the class/event start date with a cancellation request in writing (see above) will automatically forfeit all registration fees and/or be subject to a $25 No-Show fee.</p></body></html>
LOCATION:492 Washington Street Auburn MA 01501
UID:e.3138.1445583
SEQUENCE:3
DTSTAMP:20260421T074744Z
URL:https://members.realtorscentralma.org/education-calendar/Details/accredited-buyer-s-representative-abr-designation-course-1712199?sourceTypeId=Hub
END:VEVENT
END:VCALENDAR
