BEGIN:VCALENDAR
VERSION:2.0
PRODID:-//ChamberMaster//Event Calendar 2.0//EN
METHOD:PUBLISH
X-PUBLISHED-TTL:P1H
REFRESH-INTERVAL:P1H
CALSCALE:GREGORIAN
BEGIN:VTIMEZONE
TZID:America/New_York
BEGIN:DAYLIGHT
RRULE:FREQ=YEARLY;BYMONTH=3;BYDAY=2SU
DTSTART:20070101T000000
TZOFFSETFROM:-0500
TZOFFSETTO:-0400
TZNAME:Eastern Daylight Time
END:DAYLIGHT
BEGIN:STANDARD
RRULE:FREQ=YEARLY;BYMONTH=11;BYDAY=1SU
DTSTART:20070101T000000
TZOFFSETFROM:-0400
TZOFFSETTO:-0500
TZNAME:Eastern Standard Time
END:STANDARD
END:VTIMEZONE
BEGIN:VEVENT
DTSTART;TZID=America/New_York:20260527T090000
DTEND;TZID=America/New_York:20260527T130000
X-MICROSOFT-CDO-ALLDAYEVENT:FALSE
SUMMARY:Professional Headshot Day
DESCRIPTION:Headshot Day at RACM   Sponsored by Prentice Visual MediaWe are excited to announce an upcoming Headshot Day for RACM members\, sponsored by Prentice Visual Media.Join us on Tuesday\, April 7\, from 11:00 AM to 3:00 PM in the RACM Classroom for a professional headshot experience designed to help elevate your personal brand.Refresh your professional image. A strong\, current headshot is one of the most valuable tools in your marketing. If your headshot needs an update\, this is a great opportunity to refresh your look and create high-quality content for your online presence.RACM members receive a special rate of $200. During your session\, you will receive two finished photos to choose from and one 30-second video reel capturing your experience.Appointments are limited\, so be sure to reserve your spot.Please reserve your headshot session by selecting a time slot using the link below:\nhttps://www.prenticevisualmedia.com/racm-headshot-day-2026We look forward to seeing you there and helping you put your best face forward with Prentice Visual Media.
X-ALT-DESC;FMTTYPE=text/html:<!DOCTYPE html><html><head><title></title></head><body aria-disabled="false"><p data-end="57" data-start="0" style="text-align: center\;"><strong fr-original-style="" style="font-weight: 700\;"><span style="font-family: Georgia\,serif\;">Headshot Day at RACM &ndash\; Sponsored by Prentice Visual Media</span></strong></p><p data-end="164" data-start="59"><span style="font-family: Georgia\,serif\;">We are excited to announce an upcoming Headshot Day for RACM members\, sponsored by Prentice Visual Media.</span></p><p data-end="326" data-start="166"><span style="font-family: Georgia\,serif\;">Join us on Tuesday\, April 7\, from <strong fr-original-style="" style="font-weight: 700\;">11:00 AM to 3:00 PM</strong> in the <strong fr-original-style="" style="font-weight: 700\;">RACM Classroom</strong> for a professional headshot experience designed to help elevate your personal brand.</span></p><p data-end="581" data-start="328"><span style="font-family: Georgia\,serif\;">Refresh your professional image. A strong\, current headshot is one of the most valuable tools in your marketing. If your headshot needs an update\, this is a great opportunity to refresh your look and create high-quality content for your online presence.</span></p><p data-end="756" data-start="583"><span style="font-family: Georgia\,serif\;">RACM members receive a special rate of $200. During your session\, you will receive <strong fr-original-style="" style="font-weight: 700\;">two&nbsp\;</strong>finished photos to choose from and <strong fr-original-style="" style="font-weight: 700\;">one 30-second video reel&nbsp\;</strong>capturing your experience.</span></p><p data-end="816" data-start="758"><span style="font-family: Georgia\,serif\;"><strong fr-original-style="" style="font-weight: 700\;">Appointments are limited\, so be sure to reserve your spot.</strong></span></p><p data-end="962" data-start="818"><span style="font-family: Georgia\,serif\;"><span style="font-size: 18px\;">Please reserve your headshot session by selecting a time slot using the link below:<br data-start="901" data-end="904"></span><a data-end="962" data-start="904" fr-original-style="" href="https://www.prenticevisualmedia.com/racm-headshot-day-2026" rel="noopener" style="user-select: auto\;" target="_new"><strong fr-original-style="" style="font-weight: 700\;"><em><span style="font-size: 18px\;">https://www.prenticevisualmedia.com/racm-headshot-day-2026</span></em></strong></a></span></p><p data-end="1070" data-is-last-node="" data-is-only-node="" data-start="964"><span style="font-family: Georgia\,serif\;">We look forward to seeing you there and helping you put your best face forward with Prentice Visual Media.</span></p><p style="text-align: center\;"><span style="font-family: Georgia\,serif\;">&nbsp\;</span></p></body></html>
LOCATION:492 Washington Street Auburn MA 01501
UID:e.3138.1443580
SEQUENCE:3
DTSTAMP:20260421T074442Z
URL:https://members.realtorscentralma.org/education-calendar/Details/professional-headshot-day-1709813?sourceTypeId=Hub
END:VEVENT
END:VCALENDAR
